BEGIN:VCALENDAR
VERSION:2.0
PRODID:spatie/icalendar-generator
DESCRIPTION:Events from Anne Arundel County Republican Central Committee
X-WR-CALDESC:Events from Anne Arundel County Republican Central Committee
REFRESH-INTERVAL;VALUE=DURATION:PT1440M
X-PUBLISHED-TTL:PT1440M
BEGIN:VTIMEZONE
TZID:Etc/GMT+0
BEGIN:STANDARD
DTSTART:20250809T190000Z
TZOFFSETFROM:+0000
TZOFFSETTO:+0000
END:STANDARD
END:VTIMEZONE
BEGIN:VTIMEZONE
TZID:UTC
BEGIN:STANDARD
DTSTART:20250729T130502Z
TZOFFSETFROM:+0000
TZOFFSETTO:+0000
END:STANDARD
END:VTIMEZONE
BEGIN:VEVENT
UID:312-297
DTSTAMP:20260425T130502Z
SUMMARY:AAGOP monthly meeting
LOCATION:Eastern District Police HQ 204 E. Pasadena Road  Pasadena MD 21122
ORGANIZER;CN=aagoptest:MAILTO:annemwhite@comcast.net
DTSTART;TZID=Etc/GMT+0:20260506T190000
DTEND;TZID=Etc/GMT+0:20260506T210000
X-ALT-DESC;FMTTYPE=TEXT/HTML:
CATEGORIES:Fundraiser
URL;VALUE=URI:https://www.aagop.org/candidate-events/?mc_id=312&#038;vcal=3
 12
METHOD:PUBLISH
END:VEVENT
END:VCALENDAR