BEGIN:VCALENDAR
VERSION:2.0
PRODID:spatie/icalendar-generator
DESCRIPTION:Events from Anne Arundel County Republican Central Committee
X-WR-CALDESC:Events from Anne Arundel County Republican Central Committee
REFRESH-INTERVAL;VALUE=DURATION:PT1440M
X-PUBLISHED-TTL:PT1440M
BEGIN:VTIMEZONE
TZID:Etc/GMT+0
BEGIN:STANDARD
DTSTART:20250717T000000Z
TZOFFSETFROM:+0000
TZOFFSETTO:+0000
END:STANDARD
END:VTIMEZONE
BEGIN:VTIMEZONE
TZID:UTC
BEGIN:STANDARD
DTSTART:20250729T113737Z
TZOFFSETFROM:+0000
TZOFFSETTO:+0000
END:STANDARD
END:VTIMEZONE
BEGIN:VEVENT
UID:322-307
DTSTAMP:20260425T113737Z
SUMMARY:Sine Die
LOCATION:
ORGANIZER;CN=aagoptest:MAILTO:annemwhite@comcast.net
DTSTART;TZID=Etc/GMT+0:20260413T000000
DTEND;TZID=Etc/GMT+0:20260413T000000
X-ALT-DESC;FMTTYPE=TEXT/HTML:
CATEGORIES:General
URL;VALUE=URI:https://www.aagop.org/candidate-events/?mc_id=322&#038;vcal=3
 22
METHOD:PUBLISH
END:VEVENT
END:VCALENDAR